BEGIN:VCALENDAR
VERSION:2.0
PRODID:-//Plone.org//NONSGML plone.app.event//EN
X-WR-TIMEZONE:Europe/Rome
BEGIN:VEVENT
SUMMARY:APPROCCIO MULTIDISCIPLINARE AL TRATTAMENTO DELLA GRANDE OBESITA’
DTSTART;VALUE=DATE-TIME:20121117T071500Z
DTEND;VALUE=DATE-TIME:20121117T133000Z
DTSTAMP;VALUE=DATE-TIME:20260421T011737Z
UID:f136a0a3ec454c418dd4a70b232c955a@127.0.0.1:8095
ATTENDEE;CN="Medici di medicina generale (medici di famiglia),  Specialist
 i in Chirurgia generale, Anestesia e rianimazione, Malattie metaboliche e 
 Diabetologia, Endocrinologia, Medicina interna, Gastroenterologia, Scienza
  dell’alimentazione e Dietetica, Psichiatria, Malattie apparato";ROLE=RE
 Q-PARTICIPANT:Medici di medicina generale (medici di famiglia),  Specialis
 ti in Chirurgia generale, Anestesia e rianimazione, Malattie metaboliche e
  Diabetologia, Endocrinologia, Medicina interna, Gastroenterologia, Scienz
 a dell’alimentazione e Dietetica, Psichiatria, Malattie apparato
ATTENDEE;CN="respiratorio, Cardiologia, Oncologia, Dietisti, Psicologi e";
 ROLE=REQ-PARTICIPANT:respiratorio, Cardiologia, Oncologia, Dietisti, Psico
 logi e
ATTENDEE;CN=Infermieri;ROLE=REQ-PARTICIPANT:Infermieri
CATEGORIES:Aggiornamento
CREATED;VALUE=DATE-TIME:20120906T095515Z
LAST-MODIFIED;VALUE=DATE-TIME:20121219T095541Z
LOCATION:San Marino di Bentivoglio\, Villa Smeraldi
URL:https://www.ausl.bologna.it/eventi/archivio/auslevent.2012-09-06.99846
 01693
END:VEVENT
END:VCALENDAR
