BEGIN:VCALENDAR
VERSION:2.0
PRODID:-//Plone.org//NONSGML plone.app.event//EN
X-WR-TIMEZONE:Europe/Rome
BEGIN:VEVENT
SUMMARY:La Proposta Di Tecnologie Assistive: fattori di qualità e di tras
 formazione
DTSTART;VALUE=DATE-TIME:20120911T060000Z
DTEND;VALUE=DATE-TIME:20120911T150000Z
DTSTAMP;VALUE=DATE-TIME:20260421T011242Z
UID:42cfba61baadbe070f8ecbe2c30a20ca@127.0.0.1:8095
CONTACT:Simona Muzzioli\, 051 659 7715\, formazione@ausilioteca.org
CREATED;VALUE=DATE-TIME:20120905T080638Z
DESCRIPTION:Giornata di studio
LAST-MODIFIED;VALUE=DATE-TIME:20121115T110001Z
LOCATION:Bologna
URL:https://www.ausl.bologna.it/eventi/archivio/auslevent.2012-09-05.02771
 69739
END:VEVENT
END:VCALENDAR
