BEGIN:VCALENDAR
VERSION:2.0
PRODID:-//Plone.org//NONSGML plone.app.event//EN
X-WR-TIMEZONE:Europe/Rome
BEGIN:VEVENT
SUMMARY:Dal domicilio alla casa residenza per anziani: dialogo fra due mon
 di
DTSTART;VALUE=DATE-TIME:20120919T070000Z
DTEND;VALUE=DATE-TIME:20120919T153000Z
DTSTAMP;VALUE=DATE-TIME:20260421T011121Z
UID:4852a03421ab672414f4d48eff3deec4@127.0.0.1:8095
CATEGORIES:seminario
CONTACT:Associazione Alzheimer Imola\, 0542 604253\, alzheimerimola@tiscal
 i.it
CREATED;VALUE=DATE-TIME:20120830T132557Z
LAST-MODIFIED;VALUE=DATE-TIME:20121115T105956Z
LOCATION:Imola (Bo)\, Piazza Matteotti 8\, Palazzo Sersanti
URL:https://www.ausl.bologna.it/eventi/archivio/auslevent.2012-08-30.73721
 23746
END:VEVENT
END:VCALENDAR
