BEGIN:VCALENDAR
VERSION:2.0
PRODID:-//Plone.org//NONSGML plone.app.event//EN
X-WR-TIMEZONE:Europe/Rome
BEGIN:VEVENT
SUMMARY:Educare al desiderio. I giovani nel mondo dei consumi
DTSTART;VALUE=DATE-TIME:20120909T160000Z
DTEND;VALUE=DATE-TIME:20120909T180000Z
DTSTAMP;VALUE=DATE-TIME:20260420T093259Z
UID:3688ceb4a51d984ea404a8c6c30dbdc4@127.0.0.1:8095
CATEGORIES:Incontro
CREATED;VALUE=DATE-TIME:20120828T132310Z
DESCRIPTION:Miguel Benasayag\, filosofo e psicanalista\, co-autore dell'Ep
 oca delle passioni tristi\, incontra la città
LAST-MODIFIED;VALUE=DATE-TIME:20121115T105955Z
LOCATION:Bologna\, Cappella Farnese\, Palazzo d'Accursio\, Piazza Maggiore
URL:https://www.ausl.bologna.it/eventi/archivio/auslevent.2012-08-28.42640
 04505
END:VEVENT
END:VCALENDAR
