BEGIN:VCALENDAR
VERSION:2.0
PRODID:-//Plone.org//NONSGML plone.app.event//EN
X-WR-TIMEZONE:Europe/Rome
BEGIN:VEVENT
SUMMARY:Gli impianti a Biogas - Valutazioni\, impatti\, esperienze e propo
 ste per il territorio
DTSTART;VALUE=DATE-TIME:20120921T070000Z
DTEND;VALUE=DATE-TIME:20120921T140000Z
DTSTAMP;VALUE=DATE-TIME:20260421T011122Z
UID:7f745eddce627bbd49bbd9b77c6640af@127.0.0.1:8095
CATEGORIES:Convegno
CREATED;VALUE=DATE-TIME:20120824T114434Z
DESCRIPTION:Approfondimenti scientifici\, esperienze e valutazioni degli E
 nti Locali\, analisi del quadro delle competenze e aspettative dei cittadi
 ni in materia di energia rinnovabile e di tutela della salute.
LAST-MODIFIED;VALUE=DATE-TIME:20121115T105954Z
LOCATION:San Giovanni in Persiceto (BO)\, Teatro Comunale - Corso Italia 7
 0
URL:https://www.ausl.bologna.it/eventi/archivio/auslevent.2012-08-24.20574
 67594
END:VEVENT
END:VCALENDAR
