BEGIN:VCALENDAR
VERSION:2.0
PRODID:-//Plone.org//NONSGML plone.app.event//EN
X-WR-TIMEZONE:Europe/Rome
BEGIN:VEVENT
SUMMARY:La Casa nel Cuore
DTSTART;VALUE=DATE-TIME:20120807T183000Z
DTEND;VALUE=DATE-TIME:20120807T200000Z
DTSTAMP;VALUE=DATE-TIME:20260421T011106Z
UID:4e0775a91828658ec6cb6756d19faa3d@127.0.0.1:8095
CATEGORIES:Incontro
CONTACT:Gabriella Gallo\, 346 3048632
CREATED;VALUE=DATE-TIME:20120807T093300Z
DESCRIPTION:Per ritornare insieme nelle proprie case\, l’Azienda USL di 
 Bologna offre gruppi di sostegno psicologico agli abitanti di Crevalcore
LAST-MODIFIED;VALUE=DATE-TIME:20121115T105952Z
LOCATION:Crevalcore\, Biblioteca - Sala Ilaria Alpi\, via Persicetana
URL:https://www.ausl.bologna.it/eventi/archivio/auslevent.2012-08-07.66825
 90655
END:VEVENT
END:VCALENDAR
