BEGIN:VCALENDAR
VERSION:2.0
PRODID:-//Plone.org//NONSGML plone.app.event//EN
X-WR-TIMEZONE:Europe/Rome
BEGIN:VEVENT
SUMMARY:Gruppi di automutuo aiuto tra le persone che hanno vissuto il terr
 emoto 
DTSTART;VALUE=DATE-TIME:20120821T183000Z
DTEND;VALUE=DATE-TIME:20120821T200000Z
DTSTAMP;VALUE=DATE-TIME:20260421T011121Z
UID:b049f9a7dfd7de4e3d2d1abe19b38c40@127.0.0.1:8095
CATEGORIES:Incontro
CONTACT:Segreteria Facilitante\, Azienda USL di Bologna\, 349 2346598
CREATED;VALUE=DATE-TIME:20120807T094612Z
DESCRIPTION:La cittadinanza è invitata a partecipare
LAST-MODIFIED;VALUE=DATE-TIME:20121115T105953Z
LOCATION:Crevalcore\, Biblioteca - Sala Ilaria Alpi\, via Persicetana
URL:https://www.ausl.bologna.it/eventi/archivio/auslevent.2012-08-07.28907
 42402
END:VEVENT
END:VCALENDAR
