BEGIN:VCALENDAR
VERSION:2.0
PRODID:-//Plone.org//NONSGML plone.app.event//EN
X-WR-TIMEZONE:Europe/Rome
BEGIN:VEVENT
SUMMARY:Il Cuore e la Mente
DTSTART;VALUE=DATE-TIME:20120915T063000Z
DTEND;VALUE=DATE-TIME:20120915T113000Z
DTSTAMP;VALUE=DATE-TIME:20260421T011243Z
UID:be50d52ec448ed8d36b8281b98a79dfb@127.0.0.1:8095
CONTACT:Simona Cappelletti\, 051-6225003\, simona.cappelletti@ausl.bo.it
CREATED;VALUE=DATE-TIME:20120731T130135Z
DESCRIPTION:La Psicologia in Cardiologia: la descrizione di un'esperenza d
 i integrazione e i nuovi orizzonti della cura.
LAST-MODIFIED;VALUE=DATE-TIME:20121115T105951Z
LOCATION:Bologna\, Sala Congressi Gardenia Hotel Relais Bellaria\, via Alt
 ura/11 bis
URL:https://www.ausl.bologna.it/eventi/archivio/auslevent.2012-07-31.77718
 57093
END:VEVENT
END:VCALENDAR
