BEGIN:VCALENDAR
VERSION:2.0
PRODID:-//Plone.org//NONSGML plone.app.event//EN
X-WR-TIMEZONE:Europe/Rome
BEGIN:VEVENT
SUMMARY:NUOVE GENERAZIONI. Sessualità\, genere e rischio negli adolescent
 i di origine straniera
DTSTART;VALUE=DATE-TIME:20120910T063000Z
DTEND;VALUE=DATE-TIME:20120910T143000Z
DTSTAMP;VALUE=DATE-TIME:20260420T093349Z
UID:46fc3ac869d3345ea1f18cf2231e5cf2@127.0.0.1:8095
ATTENDEE;CN="Anna Giorgia Agostini, Psicologa - Spazio Giovani AUSL di Bol
 ogna";ROLE=REQ-PARTICIPANT:Anna Giorgia Agostini, Psicologa - Spazio Giova
 ni AUSL di Bologna
ATTENDEE;CN="Miguel Benassayag, Psicoanalista e filosofo - coautore del li
 bro “L’epoca delle passioni tristi”";ROLE=REQ-PARTICIPANT:Miguel Ben
 assayag, Psicoanalista e filosofo - coautore del libro “L’epoca delle 
 passioni tristi”
ATTENDEE;CN="Silvia Branca, Sociologa - coordinatrice didattica Ente di Fo
 rmazione Professionale Oficina";ROLE=REQ-PARTICIPANT:Silvia Branca, Sociol
 oga - coordinatrice didattica Ente di Formazione Professionale Oficina
ATTENDEE;CN="Matilde Callari Galli, Antropologa - Presidente dell’Istitu
 zione per l’inclusione sociale del Comune di Bologna";ROLE=REQ-PARTICIPA
 NT:Matilde Callari Galli, Antropologa - Presidente dell’Istituzione per 
 l’inclusione sociale del Comune di Bologna
ATTENDEE;CN="Elvira Cicognani, Docente di Psicologia Sociale - Università
  di Bologna";ROLE=REQ-PARTICIPANT:Elvira Cicognani, Docente di Psicologia 
 Sociale - Università di Bologna
ATTENDEE;CN="Paola Marmocchi, Psicologa - Responsabile Spazio Giovani AUSL
  di Bologna";ROLE=REQ-PARTICIPANT:Paola Marmocchi, Psicologa - Responsabil
 e Spazio Giovani AUSL di Bologna
ATTENDEE;CN="Luca Padalino, Formatore - tutor Ente di Formazione Professio
 nale Oficina";ROLE=REQ-PARTICIPANT:Luca Padalino, Formatore - tutor Ente d
 i Formazione Professionale Oficina
ATTENDEE;CN="Eleonora Strazzari, Psicologa - Spazio Giovani AUSL di Bologn
 a";ROLE=REQ-PARTICIPANT:Eleonora Strazzari, Psicologa - Spazio Giovani AUS
 L di Bologna
ATTENDEE;CN="Federica Tarabusi, Antropologa - Docente a contratto Universi
 tà di Bologna";ROLE=REQ-PARTICIPANT:Federica Tarabusi, Antropologa - Doce
 nte a contratto Università di Bologna
CATEGORIES:Convegno
CONTACT:Spazio Giovani\, 051 6597215 lun\, mar\, giov. dalle 14 alle 18\, 
 spazio.giovani@ausl.bologna.it
CREATED;VALUE=DATE-TIME:20120727T103141Z
DESCRIPTION:Un progetto di ricerca e azione\, finanziato dalla Regione Emi
 lia Romagna\, finalizzato a conoscere alcuni fenomeni legati agli adolesce
 nti di origine straniera che vivono a Bologna e provincia\, con particolar
 e attenzione al genere\, alla sessualità\, all’identità.
LAST-MODIFIED;VALUE=DATE-TIME:20121115T105950Z
LOCATION:Auditorium Marco Biagi - Sala Borsa Piazza Maggiore 1\, Bologna
URL:https://www.ausl.bologna.it/eventi/archivio/auslevent.2012-07-27.44509
 20639
END:VEVENT
END:VCALENDAR
