BEGIN:VCALENDAR
VERSION:2.0
PRODID:-//Plone.org//NONSGML plone.app.event//EN
X-WR-TIMEZONE:Europe/Rome
BEGIN:VEVENT
SUMMARY:LA CASA NEL CUORE
DTSTART;VALUE=DATE-TIME:20120724T183000Z
DTEND;VALUE=DATE-TIME:20120724T200000Z
DTSTAMP;VALUE=DATE-TIME:20260421T011058Z
UID:a7ad699169f3726c9c53730dfbbb8ce2@127.0.0.1:8095
CATEGORIES:Incontro
CONTACT:Gabriella Gallo\, 346 3048632
CREATED;VALUE=DATE-TIME:20120713T091828Z
DESCRIPTION:Dopo due  mesi dal terremoto c’è voglia di casa senza paura
LAST-MODIFIED;VALUE=DATE-TIME:20121115T105947Z
LOCATION:Crevalcore\, Sala Ilaria Alpi della Biblioteca
URL:https://www.ausl.bologna.it/eventi/archivio/auslevent.2012-07-13.68378
 76829
END:VEVENT
END:VCALENDAR
