BEGIN:VCALENDAR
VERSION:2.0
PRODID:-//Plone.org//NONSGML plone.app.event//EN
X-WR-TIMEZONE:Europe/Rome
BEGIN:VEVENT
SUMMARY:emersi e sommersi - una mostra di Davide Peretti Poggi
DTSTART;VALUE=DATE-TIME:20120711T190000Z
DTEND;VALUE=DATE-TIME:20120711T200000Z
DTSTAMP;VALUE=DATE-TIME:20260420T075051Z
UID:6e8fce8458259fb124c2deced4085970@127.0.0.1:8095
CATEGORIES:Presentazione
CONTACT:051 230260
CREATED;VALUE=DATE-TIME:20120709T104336Z
DESCRIPTION:La presentazione del catalogo dell'omonima esposizione\, in co
 rso fino al 15 luglio a Santa Maria della Vita\, con Eugenio Riccòmini e 
 Sandro Parmiggiani.
LAST-MODIFIED;VALUE=DATE-TIME:20120713T085252Z
LOCATION:Bologna\, via Clavature 8\, Oratorio di Santa Maria della Vita
URL:https://www.ausl.bologna.it/eventi/archivio/auslevent.2012-07-09.73922
 80058
END:VEVENT
END:VCALENDAR
