BEGIN:VCALENDAR
VERSION:2.0
PRODID:-//Plone.org//NONSGML plone.app.event//EN
X-WR-TIMEZONE:Europe/Rome
BEGIN:VEVENT
SUMMARY:The Ladies Trial: trial prospettico randomizzato multicentrico int
 ernazionale
DTSTART;VALUE=DATE-TIME:20120709T133000Z
DTEND;VALUE=DATE-TIME:20120709T160000Z
DTSTAMP;VALUE=DATE-TIME:20260421T011012Z
UID:a1f6f158c855caeefb6dbf51986daa84@127.0.0.1:8095
CATEGORIES:Incontro
CREATED;VALUE=DATE-TIME:20120625T125320Z
DESCRIPTION:Start up meeting dello studio "Ladies Trial" che sarà effettu
 ato dai professionisti dell'UOC di Chirurgia Generale A e d'Urgenza dell
 ’Ospedale Maggiore
LAST-MODIFIED;VALUE=DATE-TIME:20120713T085251Z
LOCATION:Bologna\, Aula Rossa\, Ospedale Maggiore\, Largo Nigrisoli\, 2
URL:https://www.ausl.bologna.it/eventi/archivio/auslevent.2012-06-25.08457
 98499
END:VEVENT
END:VCALENDAR
