BEGIN:VCALENDAR
VERSION:2.0
PRODID:-//Plone.org//NONSGML plone.app.event//EN
X-WR-TIMEZONE:Europe/Rome
BEGIN:VEVENT
SUMMARY:Conferenza stampa - La Rete Reumatologica Metropolitana di Bologna
DTSTART;VALUE=DATE-TIME:20120621T093000Z
DTEND;VALUE=DATE-TIME:20120621T110000Z
DTSTAMP;VALUE=DATE-TIME:20260421T011121Z
UID:0fe3fa60528e688e2939f19b5d053772@127.0.0.1:8095
CATEGORIES:Conferenza stampa
CREATED;VALUE=DATE-TIME:20120620T093216Z
DESCRIPTION:Giovedì 21 giugno\, ore 11.30
LAST-MODIFIED;VALUE=DATE-TIME:20120713T085249Z
LOCATION:Bologna\, Oratorio di Santa Maria della Vita
URL:https://www.ausl.bologna.it/eventi/archivio/auslevent.2012-06-20.40971
 09112
END:VEVENT
END:VCALENDAR
