BEGIN:VCALENDAR
VERSION:2.0
PRODID:-//Plone.org//NONSGML plone.app.event//EN
X-WR-TIMEZONE:Europe/Rome
BEGIN:VEVENT
SUMMARY:Prima giornata nazionale del colesterolo
DTSTART;VALUE=DATE-TIME:20120615T220000Z
DTEND;VALUE=DATE-TIME:20120616T220000Z
DTSTAMP;VALUE=DATE-TIME:20260421T011058Z
UID:703567f162bf60ef97761007ae4d923b@127.0.0.1:8095
CONTACT:Maria Cantone\, mcantone@dominanews.it
CREATED;VALUE=DATE-TIME:20120611T092121Z
DESCRIPTION:Alcuni appuntamenti e iniziative a Bologna.
LAST-MODIFIED;VALUE=DATE-TIME:20120713T085306Z
LOCATION:Bologna\, Piazza Maggiore
URL:https://www.ausl.bologna.it/eventi/archivio/auslevent.2012-06-11.04399
 23571
END:VEVENT
END:VCALENDAR
