BEGIN:VCALENDAR
VERSION:2.0
PRODID:-//Plone.org//NONSGML plone.app.event//EN
X-WR-TIMEZONE:Europe/Rome
BEGIN:VEVENT
SUMMARY:Una rete sociale per proteggerci
DTSTART;VALUE=DATE-TIME:20120605T150000Z
DTEND;VALUE=DATE-TIME:20120605T170000Z
DTSTAMP;VALUE=DATE-TIME:20260421T011012Z
UID:1137aedae722e5a08a85619bbdc82209@127.0.0.1:8095
CATEGORIES:Incontro
CREATED;VALUE=DATE-TIME:20120604T103358Z
DESCRIPTION:Incontro
LAST-MODIFIED;VALUE=DATE-TIME:20120620T092054Z
LOCATION:San Pietro in Casale\, Centro Sociale "E. Faccioli"
URL:https://www.ausl.bologna.it/eventi/archivio/auslevent.2012-06-04.84202
 65420
END:VEVENT
END:VCALENDAR
