BEGIN:VCALENDAR
VERSION:2.0
PRODID:-//Plone.org//NONSGML plone.app.event//EN
X-WR-TIMEZONE:Europe/Rome
BEGIN:VEVENT
SUMMARY:Proteggere nella paura. Parliamone insieme
DTSTART;VALUE=DATE-TIME:20120606T153000Z
DTEND;VALUE=DATE-TIME:20120606T173000Z
DTSTAMP;VALUE=DATE-TIME:20260421T010920Z
UID:e868b29b620e41ce421046c46359739a@127.0.0.1:8095
CATEGORIES:Incontro
CREATED;VALUE=DATE-TIME:20120604T103729Z
DESCRIPTION:Incontro
LAST-MODIFIED;VALUE=DATE-TIME:20120620T092550Z
LOCATION:Argelato\, Teatro Comunale
URL:https://www.ausl.bologna.it/eventi/archivio/auslevent.2012-06-04.11264
 21476
END:VEVENT
END:VCALENDAR
