BEGIN:VCALENDAR
VERSION:2.0
PRODID:-//Plone.org//NONSGML plone.app.event//EN
X-WR-TIMEZONE:Europe/Rome
BEGIN:VEVENT
SUMMARY:Per ricordare e parlare di Andrea Zanzotto
DTSTART;VALUE=DATE-TIME:20120611T163000Z
DTEND;VALUE=DATE-TIME:20120611T180000Z
DTSTAMP;VALUE=DATE-TIME:20260421T011012Z
UID:3feabb2eca3501cc9f8fc39805361441@127.0.0.1:8095
CATEGORIES:Incontro
CREATED;VALUE=DATE-TIME:20120531T114156Z
DESCRIPTION:Un incontro sul poeta e il suo rapporto con la psicanalisi. In
 troduce Federico Chicchi.
LAST-MODIFIED;VALUE=DATE-TIME:20120713T085302Z
LOCATION:Bologna\, Via delle Moline 3\, Libreria delle Moline
URL:https://www.ausl.bologna.it/eventi/archivio/auslevent.2012-05-31.20357
 59687
END:VEVENT
END:VCALENDAR
