BEGIN:VCALENDAR
VERSION:2.0
PRODID:-//Plone.org//NONSGML plone.app.event//EN
X-WR-TIMEZONE:Europe/Rome
BEGIN:VEVENT
SUMMARY:Canile Savena: risorsa e opportunità
DTSTART;VALUE=DATE-TIME:20120531T184500Z
DTEND;VALUE=DATE-TIME:20120531T203000Z
DTSTAMP;VALUE=DATE-TIME:20260421T012435Z
UID:4e861a4dd9386a1db2cefe417c671a82@127.0.0.1:8095
CATEGORIES:Convegno
CREATED;VALUE=DATE-TIME:20120529T100517Z
DESCRIPTION:Un convegno sulla struttura e la sua gestione.
LAST-MODIFIED;VALUE=DATE-TIME:20120713T085301Z
LOCATION:San Lazzaro di Savena\, via Emilia 84\, Sala di città
URL:https://www.ausl.bologna.it/eventi/archivio/auslevent.2012-05-29.50158
 58114
END:VEVENT
END:VCALENDAR
