BEGIN:VCALENDAR
VERSION:2.0
PRODID:-//Plone.org//NONSGML plone.app.event//EN
X-WR-TIMEZONE:Europe/Rome
BEGIN:VEVENT
SUMMARY:Rinviato a data da destinarsi il Memorial Roberto Ragazzi - Datti 
 una mossa!
DTSTART;VALUE=DATE-TIME:20120602T080000Z
DTEND;VALUE=DATE-TIME:20120602T170000Z
DTSTAMP;VALUE=DATE-TIME:20260421T011107Z
UID:827cf90ac34b7bcb7c00692ecf2d23c7@127.0.0.1:8095
CREATED;VALUE=DATE-TIME:20120528T125914Z
DESCRIPTION:Una giornata all'insegna del benessere e del divertimento\, de
 lla promozione dei corretti stili di vita e della prevenzione. Al Centro S
 portivo Arcoveggio\, in occasione del IV Memorial Roberto Ragazzi.
LAST-MODIFIED;VALUE=DATE-TIME:20120713T085300Z
LOCATION:Bologna\, via di Corticella 180/4\, Centro Sportivo Arcoveggio
URL:https://www.ausl.bologna.it/eventi/archivio/auslevent.2012-05-28.63254
 41801
END:VEVENT
END:VCALENDAR
