BEGIN:VCALENDAR
VERSION:2.0
PRODID:-//Plone.org//NONSGML plone.app.event//EN
X-WR-TIMEZONE:Europe/Rome
BEGIN:VEVENT
SUMMARY:L'Europa siamo noi - nessuno si senta escluso
DTSTART;VALUE=DATE-TIME:20120602T080000Z
DTEND;VALUE=DATE-TIME:20120602T190000Z
DTSTAMP;VALUE=DATE-TIME:20260420T093429Z
UID:aeedf8e47465d1ab2eed468619cadbe7@127.0.0.1:8095
CATEGORIES:Festa
CREATED;VALUE=DATE-TIME:20120528T124618Z
DESCRIPTION:Cittadinanaza\, diritti\, solidarietà\, Welfare. Festa intere
 tnica e interculturale con cibi e musica dal mondo.
LAST-MODIFIED;VALUE=DATE-TIME:20120713T085256Z
LOCATION:Bologna\, via Bentivogli
URL:https://www.ausl.bologna.it/eventi/archivio/auslevent.2012-05-28.35838
 23599
END:VEVENT
END:VCALENDAR
