BEGIN:VCALENDAR
VERSION:2.0
PRODID:-//Plone.org//NONSGML plone.app.event//EN
X-WR-TIMEZONE:Europe/Rome
BEGIN:VEVENT
SUMMARY:PROMOS 2
DTSTART;VALUE=DATE-TIME:20120530T120000Z
DTEND;VALUE=DATE-TIME:20120530T160000Z
DTSTAMP;VALUE=DATE-TIME:20260421T011224Z
UID:32a2bc6f6aedc5c6c09ef1908bbce654@127.0.0.1:8095
CATEGORIES:seminario
CONTACT:Rossana Direnzo\, rossana.direnzo@ausl.bologna.it
CREATED;VALUE=DATE-TIME:20120528T075248Z
DESCRIPTION:Vivere e narrare l’esperienza: la tutorship per neoassunti n
 ei servizi sanitari in Svezia
LAST-MODIFIED;VALUE=DATE-TIME:20120620T092044Z
LOCATION:Bologna\, Via S. Isaia 94
URL:https://www.ausl.bologna.it/eventi/archivio/auslevent.2012-05-28.34575
 42810
END:VEVENT
END:VCALENDAR
