BEGIN:VCALENDAR
VERSION:2.0
PRODID:-//Plone.org//NONSGML plone.app.event//EN
X-WR-TIMEZONE:Europe/Rome
BEGIN:VEVENT
SUMMARY:Diritti sociali\, livelli essenziali\, servizi sociali
DTSTART;VALUE=DATE-TIME:20120618T073000Z
DTEND;VALUE=DATE-TIME:20120618T140000Z
DTSTAMP;VALUE=DATE-TIME:20260421T011122Z
UID:c067d21714933a08ca72cf680f56b68b@127.0.0.1:8095
CATEGORIES:Incontro
CREATED;VALUE=DATE-TIME:20120525T094152Z
DESCRIPTION:Il contributo degli Enti Locali al nuovo piano socio sanitario
  dell’Emilia Romagna
LAST-MODIFIED;VALUE=DATE-TIME:20120713T085304Z
LOCATION:Bologna\, Viale Aldo Moro 18 - Sala Auditorium
URL:https://www.ausl.bologna.it/eventi/archivio/auslevent.2012-05-25.46292
 03816
END:VEVENT
END:VCALENDAR
