BEGIN:VCALENDAR
VERSION:2.0
PRODID:-//Plone.org//NONSGML plone.app.event//EN
X-WR-TIMEZONE:Europe/Rome
BEGIN:VEVENT
SUMMARY:Il dolore e la sofferenza nel percorso della malattia
DTSTART;VALUE=DATE-TIME:20120526T073000Z
DTEND;VALUE=DATE-TIME:20120526T110000Z
DTSTAMP;VALUE=DATE-TIME:20260420T164614Z
UID:4184d9c3456c6bdfd262f4ba56864881@127.0.0.1:8095
CATEGORIES:Dibattito
CONTACT:qualita@ausl.bo.it
CREATED;VALUE=DATE-TIME:20120523T100008Z
DESCRIPTION:Quali iniziative realizzare insieme?
LAST-MODIFIED;VALUE=DATE-TIME:20120620T092057Z
LOCATION:Casalecchio di Reno\, Centro Giovanile BLOGOS
URL:https://www.ausl.bologna.it/eventi/archivio/auslevent.2012-05-23.04938
 70901
END:VEVENT
END:VCALENDAR
