BEGIN:VCALENDAR
VERSION:2.0
PRODID:-//Plone.org//NONSGML plone.app.event//EN
X-WR-TIMEZONE:Europe/Rome
BEGIN:VEVENT
SUMMARY:Giornata Mondiale Senza Tabacco
DTSTART;VALUE=DATE-TIME:20120531T123000Z
DTEND;VALUE=DATE-TIME:20120531T180000Z
DTSTAMP;VALUE=DATE-TIME:20260421T011059Z
UID:540ef92be71849b90a780f7f29129068@127.0.0.1:8095
CATEGORIES:Convegno
CONTACT:alessandra.bolognini@iec-srl.it
CREATED;VALUE=DATE-TIME:20120518T091935Z
LAST-MODIFIED;VALUE=DATE-TIME:20120620T092051Z
LOCATION:Bologna\, Auditorium Enzo Biagi
URL:https://www.ausl.bologna.it/eventi/archivio/auslevent.2012-05-18.97565
 70532
END:VEVENT
END:VCALENDAR
