BEGIN:VCALENDAR
VERSION:2.0
PRODID:-//Plone.org//NONSGML plone.app.event//EN
X-WR-TIMEZONE:Europe/Rome
BEGIN:VEVENT
SUMMARY:Conversazione tra il Comitato Etico e i ricercatori dell'Azienda U
 SL di Bologna per una ricerca clinica di Qualità
DTSTART;VALUE=DATE-TIME:20120523T120000Z
DTEND;VALUE=DATE-TIME:20120523T160000Z
DTSTAMP;VALUE=DATE-TIME:20260421T013128Z
UID:9ac456168801306ffcf24cbd96fa4d85@127.0.0.1:8095
CATEGORIES:Incontro
CONTACT:Luigi Borgogno - Segreteria Amministrativa del Comitato Etico Azie
 nda USL di Bologna\, 051 317 2170
CREATED;VALUE=DATE-TIME:20120514T084239Z
DESCRIPTION:Un incontro aperto ai cittadini sulla ricerca clinica di quali
 tà\, tra controllo\, collaborazione e partecipazione.
LAST-MODIFIED;VALUE=DATE-TIME:20120713T085259Z
LOCATION:Bologna\, Aula Cesare Cesari - Casa dei Donatori di Sangue Avis P
 rovinciale\, via dell'Ospedale 20
URL:https://www.ausl.bologna.it/eventi/archivio/auslevent.2012-05-14.57992
 32621
END:VEVENT
END:VCALENDAR
