BEGIN:VCALENDAR
VERSION:2.0
PRODID:-//Plone.org//NONSGML plone.app.event//EN
X-WR-TIMEZONE:Europe/Rome
BEGIN:VEVENT
SUMMARY:Trekking dei Colli Euganei con Datti una mossa!
DTSTART;VALUE=DATE-TIME:20120519T053000Z
DTEND;VALUE=DATE-TIME:20120520T170000Z
DTSTAMP;VALUE=DATE-TIME:20260421T011106Z
UID:641e66483213fe3beb2607a90b4ea1c1@127.0.0.1:8095
CATEGORIES:Camminata e corsa campestre
CREATED;VALUE=DATE-TIME:20120514T073421Z
LAST-MODIFIED;VALUE=DATE-TIME:20120620T092047Z
LOCATION:Arquà Petrarca (Padova)
URL:https://www.ausl.bologna.it/eventi/archivio/auslevent.2012-05-14.23861
 10262
END:VEVENT
END:VCALENDAR
