BEGIN:VCALENDAR
VERSION:2.0
PRODID:-//Plone.org//NONSGML plone.app.event//EN
X-WR-TIMEZONE:Europe/Rome
BEGIN:VEVENT
SUMMARY:Anziani\, fragilità e demenze
DTSTART;VALUE=DATE-TIME:20120518T070000Z
DTEND;VALUE=DATE-TIME:20120518T160000Z
DTSTAMP;VALUE=DATE-TIME:20260421T011059Z
UID:8c28b2d3941e7b332c928bdf52b2c862@127.0.0.1:8095
CATEGORIES:Convegno
CONTACT:Fabio Michelini\, 051 6597133\, fabio.michelini@ausl.bologna.it
CREATED;VALUE=DATE-TIME:20120507T114810Z
DESCRIPTION:Quale ruolo per le Cure Primarie
LAST-MODIFIED;VALUE=DATE-TIME:20120528T075931Z
LOCATION:Bologna\, Expo Sanità
URL:https://www.ausl.bologna.it/eventi/archivio/auslevent.2012-05-07.03305
 83164
END:VEVENT
END:VCALENDAR
