BEGIN:VCALENDAR
VERSION:2.0
PRODID:-//Plone.org//NONSGML plone.app.event//EN
X-WR-TIMEZONE:Europe/Rome
BEGIN:VEVENT
SUMMARY:Cure palliative prima: ma come?
DTSTART;VALUE=DATE-TIME:20120514T073000Z
DTEND;VALUE=DATE-TIME:20120515T143000Z
DTSTAMP;VALUE=DATE-TIME:20260420T232833Z
UID:ca4a6ce6c7fbb98b90c751eca02fe140@127.0.0.1:8095
CATEGORIES:seminario
CONTACT:051 4210559
CREATED;VALUE=DATE-TIME:20120504T131321Z
LAST-MODIFIED;VALUE=DATE-TIME:20120620T092037Z
LOCATION:Bentivoglio\, Castello di Bentivoglio
URL:https://www.ausl.bologna.it/eventi/archivio/auslevent.2012-05-04.70484
 46378
END:VEVENT
END:VCALENDAR
