BEGIN:VCALENDAR
VERSION:2.0
PRODID:-//Plone.org//NONSGML plone.app.event//EN
X-WR-TIMEZONE:Europe/Rome
BEGIN:VEVENT
SUMMARY:Solidarietà in piazza 2012
DTSTART;VALUE=DATE-TIME:20120526T160000Z
DTEND;VALUE=DATE-TIME:20120527T210000Z
DTSTAMP;VALUE=DATE-TIME:20260420T093348Z
UID:ea26b44e12971fd5ebd431eba288792d@127.0.0.1:8095
CATEGORIES:Festa
CREATED;VALUE=DATE-TIME:20120504T133812Z
DESCRIPTION:Festa per l'associazione "Bimbo Tu"
LAST-MODIFIED;VALUE=DATE-TIME:20120713T085253Z
LOCATION:San Lazzaro di Savena\, Piazza Bracci
URL:https://www.ausl.bologna.it/eventi/archivio/auslevent.2012-05-04.24176
 58826
END:VEVENT
END:VCALENDAR
