BEGIN:VCALENDAR
VERSION:2.0
PRODID:-//Plone.org//NONSGML plone.app.event//EN
X-WR-TIMEZONE:Europe/Rome
BEGIN:VEVENT
SUMMARY:L'approccio scientifico alla nutrizione nelle malattie neuromuscol
 ari: ricadute pratiche nel progetto "Sana cucina"
DTSTART;VALUE=DATE-TIME:20120516T080000Z
DTEND;VALUE=DATE-TIME:20120516T110000Z
DTSTAMP;VALUE=DATE-TIME:20260420T232625Z
UID:d24d81e5c805fef8559deed9fdd195f4@127.0.0.1:8095
CATEGORIES:Convegno
CREATED;VALUE=DATE-TIME:20120504T122620Z
DESCRIPTION:Progetto Sana Cucina promosso da UILDM – Sezione di Bologna
LAST-MODIFIED;VALUE=DATE-TIME:20120620T092032Z
LOCATION:Bologna\, Exposanità
URL:https://www.ausl.bologna.it/eventi/archivio/auslevent.2012-05-04.07190
 89545
END:VEVENT
END:VCALENDAR
