BEGIN:VCALENDAR
VERSION:2.0
PRODID:-//Plone.org//NONSGML plone.app.event//EN
X-WR-TIMEZONE:Europe/Rome
BEGIN:VEVENT
SUMMARY:IL VIAGGIO DEGLI UCCELLI
DTSTART;VALUE=DATE-TIME:20120505T190000Z
DTEND;VALUE=DATE-TIME:20120505T210000Z
DTSTAMP;VALUE=DATE-TIME:20260420T232833Z
UID:9f0a70037f5e686ad9699e3d79bc9ed2@127.0.0.1:8095
CATEGORIES:Spettacolo teatrale
CONTACT:informazioni@testoniragazzi.it
CREATED;VALUE=DATE-TIME:20120502T123620Z
DESCRIPTION:Spettacolo di Arte & Salute ONLUS
LAST-MODIFIED;VALUE=DATE-TIME:20120528T075925Z
LOCATION:Bologna\, Teatro Testoni Ragazzi
URL:https://www.ausl.bologna.it/eventi/archivio/auslevent.2012-05-02.84385
 88142
END:VEVENT
END:VCALENDAR
