BEGIN:VCALENDAR
VERSION:2.0
PRODID:-//Plone.org//NONSGML plone.app.event//EN
X-WR-TIMEZONE:Europe/Rome
BEGIN:VEVENT
SUMMARY:Spiritualità\, Salute e Benessere
DTSTART;VALUE=DATE-TIME:20120521T130000Z
DTEND;VALUE=DATE-TIME:20120521T160000Z
DTSTAMP;VALUE=DATE-TIME:20260420T232822Z
UID:f5ee125613c0baa12e6fcea8240a75f5@127.0.0.1:8095
CATEGORIES:Aggiornamento
CONTACT:simona.cappelletti@ausl.bo.it
CREATED;VALUE=DATE-TIME:20120424T134645Z
DESCRIPTION:Tre giornate di riflessione sul benessere e sulla nuova concez
 ione della cura attraverso l'incontro tra spiritualità e scienza.
LAST-MODIFIED;VALUE=DATE-TIME:20120912T093125Z
LOCATION:Bologna\, Relais Bellaria Hotel
URL:https://www.ausl.bologna.it/eventi/archivio/auslevent.2012-04-24.86998
 25855
END:VEVENT
END:VCALENDAR
