BEGIN:VCALENDAR
VERSION:2.0
PRODID:-//Plone.org//NONSGML plone.app.event//EN
X-WR-TIMEZONE:Europe/Rome
BEGIN:VEVENT
SUMMARY:Spiritualità\, Salute e Benessere
DTSTART;VALUE=DATE-TIME:20120505T070000Z
DTEND;VALUE=DATE-TIME:20120505T103000Z
DTSTAMP;VALUE=DATE-TIME:20260420T232502Z
UID:87c8a52f515836e3586b252bf666b7fa@127.0.0.1:8095
CATEGORIES:Aggiornamento
CONTACT:simona.cappelletti@ausl.bo.it
CREATED;VALUE=DATE-TIME:20120424T133349Z
DESCRIPTION:Tre giornate di riflessione sul benessere e sulla nuova concez
 ione della cura attraverso l'incontro tra spiritualità e scienza
LAST-MODIFIED;VALUE=DATE-TIME:20120528T075923Z
LOCATION:Bologna\, Relais Bellaria Hotel
URL:https://www.ausl.bologna.it/eventi/archivio/auslevent.2012-04-24.84191
 02784
END:VEVENT
END:VCALENDAR
