BEGIN:VCALENDAR
VERSION:2.0
PRODID:-//Plone.org//NONSGML plone.app.event//EN
X-WR-TIMEZONE:Europe/Rome
BEGIN:VEVENT
SUMMARY:Di fronte al futuro: minori e uso di sostanze psicoattive
DTSTART;VALUE=DATE-TIME:20120518T080000Z
DTEND;VALUE=DATE-TIME:20120518T110000Z
DTSTAMP;VALUE=DATE-TIME:20260420T232643Z
UID:ad4ab183dacbe36c995cfda7e849cd49@127.0.0.1:8095
CONTACT:e.turino@ausl.bologna.it
CREATED;VALUE=DATE-TIME:20120423T113509Z
DESCRIPTION:Uno studio su 869 studenti di scuole medie inferiori e superio
 ri con età compresa tra 13 e 16 anni. A cura di Raimondo Maria Pavarin
LAST-MODIFIED;VALUE=DATE-TIME:20120713T085235Z
LOCATION:Bologna\, Facoltà di Scienze della formazione
URL:https://www.ausl.bologna.it/eventi/archivio/auslevent.2012-04-23.74420
 20705
END:VEVENT
END:VCALENDAR
