BEGIN:VCALENDAR
VERSION:2.0
PRODID:-//Plone.org//NONSGML plone.app.event//EN
X-WR-TIMEZONE:Europe/Rome
BEGIN:VEVENT
SUMMARY:L’uso di droga ai tempi delle crisi: stili di vita\, modelli di 
 consumo e strategie d’acquisto
DTSTART;VALUE=DATE-TIME:20120511T080000Z
DTEND;VALUE=DATE-TIME:20120511T110000Z
DTSTAMP;VALUE=DATE-TIME:20260420T232823Z
UID:6ffdc328b12d01ee6a01dd3d6ae42670@127.0.0.1:8095
CONTACT:e.turino@ausl.bologna.it
CREATED;VALUE=DATE-TIME:20120423T113042Z
DESCRIPTION:Una ricerca qualitativa sull’uso di sostanze illegali con\ni
 nterviste in profondità a consumatori\, consumatori\nproblematici e sogge
 tti con dipendenza
LAST-MODIFIED;VALUE=DATE-TIME:20120620T092011Z
LOCATION:Bologna\, Facoltà di Scienze della formazione
URL:https://www.ausl.bologna.it/eventi/archivio/auslevent.2012-04-23.31345
 73219
END:VEVENT
END:VCALENDAR
