BEGIN:VCALENDAR
VERSION:2.0
PRODID:-//Plone.org//NONSGML plone.app.event//EN
X-WR-TIMEZONE:Europe/Rome
BEGIN:VEVENT
SUMMARY:Donne tra normalità e dipendenze
DTSTART;VALUE=DATE-TIME:20120525T080000Z
DTEND;VALUE=DATE-TIME:20120525T110000Z
DTSTAMP;VALUE=DATE-TIME:20260420T232644Z
UID:ff30aa2de843288f33fd670faa69196c@127.0.0.1:8095
CONTACT:e.turino@ausl.bologna.it
CREATED;VALUE=DATE-TIME:20120423T114103Z
DESCRIPTION:Una ricerca su qualità della vita\, uso di sostanze psicoatti
 ve\, abitudine al gioco e  shopping compulsivo su un campione di 300 donne
  con età compresa tra 30 e 50 anni.  A cura di Raimondo Maria Pavarin
LAST-MODIFIED;VALUE=DATE-TIME:20120528T075920Z
LOCATION:Bologna\, Facoltà di Scienze della formazione
URL:https://www.ausl.bologna.it/eventi/archivio/auslevent.2012-04-23.11201
 23295
END:VEVENT
END:VCALENDAR
