BEGIN:VCALENDAR
VERSION:2.0
PRODID:-//Plone.org//NONSGML plone.app.event//EN
X-WR-TIMEZONE:Europe/Rome
BEGIN:VEVENT
SUMMARY:Sui sentieri dei partigiani
DTSTART;VALUE=DATE-TIME:20120425T060000Z
DTEND;VALUE=DATE-TIME:20120425T160000Z
DTSTAMP;VALUE=DATE-TIME:20260420T232809Z
UID:d9d390da19cc5d76a1b0e09f353ad3eb@127.0.0.1:8095
CATEGORIES:Camminata e corsa campestre
CONTACT:051 6478495
CREATED;VALUE=DATE-TIME:20120420T064400Z
DESCRIPTION:Trekking con Datti una mossa!
LAST-MODIFIED;VALUE=DATE-TIME:20120620T092558Z
LOCATION:Purocielo\, Appennino Romagnolo
URL:https://www.ausl.bologna.it/eventi/archivio/auslevent.2012-04-20.09287
 62542
END:VEVENT
END:VCALENDAR
