BEGIN:VCALENDAR
VERSION:2.0
PRODID:-//Plone.org//NONSGML plone.app.event//EN
X-WR-TIMEZONE:Europe/Rome
BEGIN:VEVENT
SUMMARY:Le neoplasie dell'apparato digerente
DTSTART;VALUE=DATE-TIME:20120421T060000Z
DTEND;VALUE=DATE-TIME:20120421T130000Z
DTSTAMP;VALUE=DATE-TIME:20260420T232905Z
UID:f714bba1abc0d9aff765e2a4ffffece3@127.0.0.1:8095
CATEGORIES:Aggiornamento
CONTACT:I&C srl\, chiara.cilione@iec-srl.it
CREATED;VALUE=DATE-TIME:20120418T083101Z
DESCRIPTION:Prevenzione e diagnosi precoce
LAST-MODIFIED;VALUE=DATE-TIME:20120713T085314Z
LOCATION:Bentivoglio\, Zanhotel Centergross
URL:https://www.ausl.bologna.it/eventi/archivio/auslevent.2012-04-18.60413
 23411
END:VEVENT
END:VCALENDAR
