BEGIN:VCALENDAR
VERSION:2.0
PRODID:-//Plone.org//NONSGML plone.app.event//EN
X-WR-TIMEZONE:Europe/Rome
BEGIN:VEVENT
SUMMARY:Conferenza stampa - Salva grazie al Trauma Center dell’Ospedale 
 Maggiore
DTSTART;VALUE=DATE-TIME:20120417T110000Z
DTEND;VALUE=DATE-TIME:20120417T123000Z
DTSTAMP;VALUE=DATE-TIME:20260420T232905Z
UID:9e7ca145c58c02e738703ff64ac9e275@127.0.0.1:8095
CATEGORIES:Conferenza stampa
CONTACT:ufficiostampa@ausl.bologna.it
CREATED;VALUE=DATE-TIME:20120416T132717Z
DESCRIPTION:Soccorsi tempestivi\, tecniche rianimatorie coraggiose\, inter
 venti innovativi su cuore e polmone \n
LAST-MODIFIED;VALUE=DATE-TIME:20120620T092554Z
LOCATION:Bologna\, Ospedale Maggiore
URL:https://www.ausl.bologna.it/eventi/archivio/auslevent.2012-04-16.68156
 48927
END:VEVENT
END:VCALENDAR
