BEGIN:VCALENDAR
VERSION:2.0
PRODID:-//Plone.org//NONSGML plone.app.event//EN
X-WR-TIMEZONE:Europe/Rome
BEGIN:VEVENT
SUMMARY:Conferenza stampa - Al via il Fascicolo Sanitario Elettronico per 
 i cittadini di Bologna e provincia
DTSTART;VALUE=DATE-TIME:20120418T110000Z
DTEND;VALUE=DATE-TIME:20120418T120000Z
DTSTAMP;VALUE=DATE-TIME:20260420T232809Z
UID:6fe0bb6a48c8ca6e6cbd08d0194d0582@127.0.0.1:8095
CATEGORIES:Conferenza stampa
CONTACT:ufficiostampa@ausl.bologna.it
CREATED;VALUE=DATE-TIME:20120416T152231Z
DESCRIPTION:I cittadini di Bologna e provincia possono attivare ora il pro
 prio Fascicolo Sanitario Elettronico e gestire comodamente attraverso inte
 rnet i propri  dati di salute.
LAST-MODIFIED;VALUE=DATE-TIME:20120620T092555Z
LOCATION:Bologna\, Oratorio di Santa Maria della Vita
URL:https://www.ausl.bologna.it/eventi/archivio/auslevent.2012-04-16.48453
 06044
END:VEVENT
END:VCALENDAR
