BEGIN:VCALENDAR
VERSION:2.0
PRODID:-//Plone.org//NONSGML plone.app.event//EN
X-WR-TIMEZONE:Europe/Rome
BEGIN:VEVENT
SUMMARY:Musical-mente. Musica in Blue.
DTSTART;VALUE=DATE-TIME:20120609T090000Z
DTEND;VALUE=DATE-TIME:20120609T110000Z
DTSTAMP;VALUE=DATE-TIME:20260420T232905Z
UID:2ce12a86e141728201900fcea4d425cf@127.0.0.1:8095
CREATED;VALUE=DATE-TIME:20120413T124619Z
DESCRIPTION:Ensemble Jazz
LAST-MODIFIED;VALUE=DATE-TIME:20120713T085312Z
LOCATION:Bologna\, Corte Roncati
URL:https://www.ausl.bologna.it/eventi/archivio/auslevent.2012-04-13.93042
 46575
END:VEVENT
END:VCALENDAR
