BEGIN:VCALENDAR
VERSION:2.0
PRODID:-//Plone.org//NONSGML plone.app.event//EN
X-WR-TIMEZONE:Europe/Rome
BEGIN:VEVENT
SUMMARY:Musical-mente. Poetar Cantando.
DTSTART;VALUE=DATE-TIME:20120526T090000Z
DTEND;VALUE=DATE-TIME:20120526T110000Z
DTSTAMP;VALUE=DATE-TIME:20260420T232905Z
UID:0bd11e7eb69a16967de8a991a8eb3413@127.0.0.1:8095
CREATED;VALUE=DATE-TIME:20120413T124125Z
DESCRIPTION:Pascoli in musica
LAST-MODIFIED;VALUE=DATE-TIME:20120713T085310Z
LOCATION:Bologna\, Centro Salute Mentale Zanolini
URL:https://www.ausl.bologna.it/eventi/archivio/auslevent.2012-04-13.75118
 78842
END:VEVENT
END:VCALENDAR
