BEGIN:VCALENDAR
VERSION:2.0
PRODID:-//Plone.org//NONSGML plone.app.event//EN
X-WR-TIMEZONE:Europe/Rome
BEGIN:VEVENT
SUMMARY:Musical-mente. Suoni e Corde\, segni e colori.
DTSTART;VALUE=DATE-TIME:20120414T090000Z
DTEND;VALUE=DATE-TIME:20120414T110000Z
DTSTAMP;VALUE=DATE-TIME:20260420T232644Z
UID:819e992a1ead1ab639f63412b2b8e292@127.0.0.1:8095
CREATED;VALUE=DATE-TIME:20120413T122531Z
DESCRIPTION:Concerto di chitarre e altro
LAST-MODIFIED;VALUE=DATE-TIME:20120713T085308Z
LOCATION:Bologna\, Casa degli Svizzeri
URL:https://www.ausl.bologna.it/eventi/archivio/auslevent.2012-04-13.72110
 54884
END:VEVENT
END:VCALENDAR
