BEGIN:VCALENDAR
VERSION:2.0
PRODID:-//Plone.org//NONSGML plone.app.event//EN
X-WR-TIMEZONE:Europe/Rome
BEGIN:VEVENT
SUMMARY:Musical-mente. Un’armonia in più.
DTSTART;VALUE=DATE-TIME:20120512T090000Z
DTEND;VALUE=DATE-TIME:20120512T110000Z
DTSTAMP;VALUE=DATE-TIME:20260420T233002Z
UID:db08a17aa32c58633982ff2494183a1c@127.0.0.1:8095
CREATED;VALUE=DATE-TIME:20120413T123702Z
DESCRIPTION:Septem Musici: ensemble di flauti dolci\, archi e clavicembalo
LAST-MODIFIED;VALUE=DATE-TIME:20120713T085309Z
LOCATION:Bologna\, Villa Mazzacorati
URL:https://www.ausl.bologna.it/eventi/archivio/auslevent.2012-04-13.45293
 39550
END:VEVENT
END:VCALENDAR
