BEGIN:VCALENDAR
VERSION:2.0
PRODID:-//Plone.org//NONSGML plone.app.event//EN
X-WR-TIMEZONE:Europe/Rome
BEGIN:VEVENT
SUMMARY:Tecnologie e saperi: le risorse per un territorio smart
DTSTART;VALUE=DATE-TIME:20120416T070000Z
DTEND;VALUE=DATE-TIME:20120416T160000Z
DTSTAMP;VALUE=DATE-TIME:20260420T233019Z
UID:1cc1b6fbc42726917f4fd2940a8c6b1e@127.0.0.1:8095
CATEGORIES:Convegno
CONTACT:051 6338800\, segreteria@lepida.it
CREATED;VALUE=DATE-TIME:20120410T062504Z
DESCRIPTION:Convegno
LAST-MODIFIED;VALUE=DATE-TIME:20120423T112407Z
LOCATION:Bologna\, Regione Emilia Romagna
URL:https://www.ausl.bologna.it/eventi/archivio/auslevent.2012-04-10.92865
 85174
END:VEVENT
END:VCALENDAR
