BEGIN:VCALENDAR
VERSION:2.0
PRODID:-//Plone.org//NONSGML plone.app.event//EN
X-WR-TIMEZONE:Europe/Rome
BEGIN:VEVENT
SUMMARY:SINDROMI EPILETTICHE IN PROGRESS: STATO DELL’ARTE\, CONFINI E PR
 OSPETTIVE
DTSTART;VALUE=DATE-TIME:20120413T060000Z
DTEND;VALUE=DATE-TIME:20120413T163000Z
DTSTAMP;VALUE=DATE-TIME:20260420T232625Z
UID:cf8ed40c4654175f2f9a8d9a8523f25e@127.0.0.1:8095
CATEGORIES:Convegno
CONTACT:info@meetingconsultants.it
CREATED;VALUE=DATE-TIME:20120410T065804Z
DESCRIPTION:Corso di aggiornamento
LAST-MODIFIED;VALUE=DATE-TIME:20120423T112407Z
LOCATION:Bologna\, Ospedale Bellaria
URL:https://www.ausl.bologna.it/eventi/archivio/auslevent.2012-04-10.61011
 13721
END:VEVENT
END:VCALENDAR
