BEGIN:VCALENDAR
VERSION:2.0
PRODID:-//Plone.org//NONSGML plone.app.event//EN
X-WR-TIMEZONE:Europe/Rome
BEGIN:VEVENT
SUMMARY:Strabologna Vivicittà 2012
DTSTART;VALUE=DATE-TIME:20120421T073000Z
DTEND;VALUE=DATE-TIME:20120422T170000Z
DTSTAMP;VALUE=DATE-TIME:20260420T232905Z
UID:6646c9d99b702623c684a3dd94e799cb@127.0.0.1:8095
CATEGORIES:Camminata e corsa campestre
CONTACT:051 3172982
CREATED;VALUE=DATE-TIME:20120410T063901Z
DESCRIPTION:Vieni a camminare\, per la tua salute
LAST-MODIFIED;VALUE=DATE-TIME:20120620T092552Z
LOCATION:Bologna
URL:https://www.ausl.bologna.it/eventi/archivio/auslevent.2012-04-10.39026
 52487
END:VEVENT
END:VCALENDAR
