BEGIN:VCALENDAR
VERSION:2.0
PRODID:-//Plone.org//NONSGML plone.app.event//EN
X-WR-TIMEZONE:Europe/Rome
BEGIN:VEVENT
SUMMARY:Programmazione sanitaria e innovazione
DTSTART;VALUE=DATE-TIME:20120509T070000Z
DTEND;VALUE=DATE-TIME:20120509T130000Z
DTSTAMP;VALUE=DATE-TIME:20260420T232833Z
UID:12a26c42921985aab44c473d821045a6@127.0.0.1:8095
CATEGORIES:Convegno
CONTACT:presidenza@iss.it
CREATED;VALUE=DATE-TIME:20120404T072856Z
DESCRIPTION:Un concorso di idee
LAST-MODIFIED;VALUE=DATE-TIME:20120423T112405Z
LOCATION:Roma\, Istituto Superiore di Sanità
URL:https://www.ausl.bologna.it/eventi/archivio/auslevent.2012-04-04.28276
 59836
END:VEVENT
END:VCALENDAR
