BEGIN:VCALENDAR
VERSION:2.0
PRODID:-//Plone.org//NONSGML plone.app.event//EN
X-WR-TIMEZONE:Europe/Rome
BEGIN:VEVENT
SUMMARY:Promuovere la salute degli operatori per dare valore alle organizz
 azioni sanitarie
DTSTART;VALUE=DATE-TIME:20120412T120000Z
DTEND;VALUE=DATE-TIME:20120412T160000Z
DTSTAMP;VALUE=DATE-TIME:20260420T233002Z
UID:08b82b217567302de6b56fd4bbc52700@127.0.0.1:8095
CONTACT:anmdo.segreteria@gmail.com
CREATED;VALUE=DATE-TIME:20120404T095217Z
LAST-MODIFIED;VALUE=DATE-TIME:20120423T112406Z
LOCATION:Bologna\, Grand Hotel Majestic
URL:https://www.ausl.bologna.it/eventi/archivio/auslevent.2012-04-04.15284
 60715
END:VEVENT
END:VCALENDAR
