BEGIN:VCALENDAR
VERSION:2.0
PRODID:-//Plone.org//NONSGML plone.app.event//EN
X-WR-TIMEZONE:Europe/Rome
BEGIN:VEVENT
SUMMARY:Modelli di assistenza ospedaliera per intensità di cura
DTSTART;VALUE=DATE-TIME:20120329T063000Z
DTEND;VALUE=DATE-TIME:20120330T140000Z
DTSTAMP;VALUE=DATE-TIME:20260420T233019Z
UID:68e14ec80b9b1b81442de82aaee39e1e@127.0.0.1:8095
CREATED;VALUE=DATE-TIME:20120328T113628Z
LAST-MODIFIED;VALUE=DATE-TIME:20120423T112404Z
LOCATION:Bologna\, sala Europa\, Palazzo della Cultura e Dei Congressi\, P
 iazza Costituzione\, 4
URL:https://www.ausl.bologna.it/eventi/archivio/auslevent.2012-03-28.21454
 00054
END:VEVENT
END:VCALENDAR
